BEGIN:VCALENDAR
VERSION:2.0
PRODID:-//Het Veehandelshuis - ECPv6.15.20//NONSGML v1.0//EN
CALSCALE:GREGORIAN
METHOD:PUBLISH
X-ORIGINAL-URL:https://www.hetveehandelshuis.nl
X-WR-CALDESC:Evenementen voor Het Veehandelshuis
REFRESH-INTERVAL;VALUE=DURATION:PT1H
X-Robots-Tag:noindex
X-PUBLISHED-TTL:PT1H
BEGIN:VTIMEZONE
TZID:Europe/Helsinki
BEGIN:DAYLIGHT
TZOFFSETFROM:+0200
TZOFFSETTO:+0300
TZNAME:EEST
DTSTART:20230326T010000
END:DAYLIGHT
BEGIN:STANDARD
TZOFFSETFROM:+0300
TZOFFSETTO:+0200
TZNAME:EET
DTSTART:20231029T010000
END:STANDARD
BEGIN:DAYLIGHT
TZOFFSETFROM:+0200
TZOFFSETTO:+0300
TZNAME:EEST
DTSTART:20240331T010000
END:DAYLIGHT
BEGIN:STANDARD
TZOFFSETFROM:+0300
TZOFFSETTO:+0200
TZNAME:EET
DTSTART:20241027T010000
END:STANDARD
BEGIN:DAYLIGHT
TZOFFSETFROM:+0200
TZOFFSETTO:+0300
TZNAME:EEST
DTSTART:20250330T010000
END:DAYLIGHT
BEGIN:STANDARD
TZOFFSETFROM:+0300
TZOFFSETTO:+0200
TZNAME:EET
DTSTART:20251026T010000
END:STANDARD
END:VTIMEZONE
BEGIN:VEVENT
DTSTART;VALUE=DATE:20240101
DTEND;VALUE=DATE:20240102
DTSTAMP:20260421T130546
CREATED:20231212T184643Z
LAST-MODIFIED:20231212T184643Z
UID:5886-1704067200-1704153599@www.hetveehandelshuis.nl
SUMMARY:gesloten
DESCRIPTION:
URL:https://www.hetveehandelshuis.nl/event/gesloten-5/
END:VEVENT
BEGIN:VEVENT
DTSTART;VALUE=DATE:20240102
DTEND;VALUE=DATE:20240103
DTSTAMP:20260421T130546
CREATED:20231212T184729Z
LAST-MODIFIED:20231212T184729Z
UID:5890-1704153600-1704239999@www.hetveehandelshuis.nl
SUMMARY:gesloten
DESCRIPTION:
URL:https://www.hetveehandelshuis.nl/event/gesloten-7/
END:VEVENT
BEGIN:VEVENT
DTSTART;TZID=Europe/Helsinki:20240103T190000
DTEND;TZID=Europe/Helsinki:20240103T233000
DTSTAMP:20260421T130546
CREATED:20231212T184848Z
LAST-MODIFIED:20231212T184848Z
UID:5892-1704308400-1704324600@www.hetveehandelshuis.nl
SUMMARY:weer open
DESCRIPTION:
URL:https://www.hetveehandelshuis.nl/event/weer-open/
END:VEVENT
END:VCALENDAR